BEGIN:VCALENDAR
VERSION:2.0
PRODID:-//Yoga Inbound Alliance - ECPv6.7.1//NONSGML v1.0//EN
CALSCALE:GREGORIAN
METHOD:PUBLISH
X-ORIGINAL-URL:https://yogainboundalliance.com/yi
X-WR-CALDESC:Eventos para Yoga Inbound Alliance
REFRESH-INTERVAL;VALUE=DURATION:PT1H
X-Robots-Tag:noindex
X-PUBLISHED-TTL:PT1H
BEGIN:VTIMEZONE
TZID:UTC
BEGIN:STANDARD
TZOFFSETFROM:+0000
TZOFFSETTO:+0000
TZNAME:UTC
DTSTART:20240101T000000
END:STANDARD
END:VTIMEZONE
BEGIN:VEVENT
DTSTART;TZID=UTC:20241031T080000
DTEND;TZID=UTC:20241031T093000
DTSTAMP:20260423T204859
CREATED:20241004T135903Z
LAST-MODIFIED:20241004T135903Z
UID:1217-1730361600-1730367000@yogainboundalliance.com
SUMMARY:Clase Nivel Intermedio
DESCRIPTION:Profundiza tu práctica: Si ya conoces los básicos\, este nivel te permitirá profundizar en las posturas y secuencias\, desarrollando mayor fuerza\, flexibilidad y equilibrio. \nDesafía tus límites: A través de clases dinámicas y variadas\, explorarás nuevas posturas y combinaciones\, fortaleciendo tu cuerpo y mente.
URL:https://yogainboundalliance.com/yi/event/clase-nivel-intermedio-3/
LOCATION:Academia YIA virtual\, Zoom Yoga Inbund Alliance\, Web\, Colombia
CATEGORIES:Clases Intermedias
ORGANIZER;CN="Vrindarani Devi Dasi":MAILTO:gopeswaravillage@gmail.com
END:VEVENT
END:VCALENDAR