BEGIN:VCALENDAR
VERSION:2.0
PRODID:-//Yoga Inbound Alliance - ECPv6.7.1//NONSGML v1.0//EN
CALSCALE:GREGORIAN
METHOD:PUBLISH
X-ORIGINAL-URL:https://yogainboundalliance.com/yi
X-WR-CALDESC:Eventos para Yoga Inbound Alliance
REFRESH-INTERVAL;VALUE=DURATION:PT1H
X-Robots-Tag:noindex
X-PUBLISHED-TTL:PT1H
BEGIN:VTIMEZONE
TZID:UTC
BEGIN:STANDARD
TZOFFSETFROM:+0000
TZOFFSETTO:+0000
TZNAME:UTC
DTSTART:20240101T000000
END:STANDARD
END:VTIMEZONE
BEGIN:VEVENT
DTSTART;TZID=UTC:20241101T080000
DTEND;TZID=UTC:20241101T093000
DTSTAMP:20260423T190236
CREATED:20241004T140359Z
LAST-MODIFIED:20241004T140359Z
UID:1221-1730448000-1730453400@yogainboundalliance.com
SUMMARY:Clase NIvel Avanzado
DESCRIPTION:Para yoguis experimentados: Si buscas una práctica intensa y desafiante\, este nivel es para ti. Trabajaremos en alineación\, fuerza y flexibilidad\, llevando tu práctica al siguiente nivel. \nExplora tu potencial: Adéntrate en secuencias más complejas y técnicas de respiración avanzadas. ¡Descubre nuevas dimensiones del yoga!
URL:https://yogainboundalliance.com/yi/event/clase-nivel-avanzado/
LOCATION:Academia YIA virtual\, Zoom Yoga Inbund Alliance\, Web\, Colombia
CATEGORIES:Clases Avanzadas
ORGANIZER;CN="Yogesvara Das":MAILTO:yosuaferrer18@gmail.com
END:VEVENT
BEGIN:VEVENT
DTSTART;TZID=UTC:20241102T080000
DTEND;TZID=UTC:20241102T093000
DTSTAMP:20260423T190236
CREATED:20241004T140444Z
LAST-MODIFIED:20241004T140444Z
UID:1223-1730534400-1730539800@yogainboundalliance.com
SUMMARY:Clase Nivel Avanzado
DESCRIPTION:Para yoguis experimentados: Si buscas una práctica intensa y desafiante\, este nivel es para ti. Trabajaremos en alineación\, fuerza y flexibilidad\, llevando tu práctica al siguiente nivel. \nExplora tu potencial: Adéntrate en secuencias más complejas y técnicas de respiración avanzadas. ¡Descubre nuevas dimensiones del yoga!
URL:https://yogainboundalliance.com/yi/event/clase-nivel-avanzado-2/
LOCATION:Academia YIA virtual\, Zoom Yoga Inbund Alliance\, Web\, Colombia
CATEGORIES:Clases Avanzadas
ORGANIZER;CN="Pavitram Seva Das":MAILTO:govindaspereira1@gmail.com
END:VEVENT
BEGIN:VEVENT
DTSTART;TZID=UTC:20241104T080000
DTEND;TZID=UTC:20241104T093000
DTSTAMP:20260423T190236
CREATED:20241004T140521Z
LAST-MODIFIED:20241004T140521Z
UID:1225-1730707200-1730712600@yogainboundalliance.com
SUMMARY:Clase Nivel Avanzado
DESCRIPTION:Para yoguis experimentados: Si buscas una práctica intensa y desafiante\, este nivel es para ti. Trabajaremos en alineación\, fuerza y flexibilidad\, llevando tu práctica al siguiente nivel. \nExplora tu potencial: Adéntrate en secuencias más complejas y técnicas de respiración avanzadas. ¡Descubre nuevas dimensiones del yoga!
URL:https://yogainboundalliance.com/yi/event/clase-nivel-avanzado-3/
LOCATION:Academia YIA virtual\, Zoom Yoga Inbund Alliance\, Web\, Colombia
CATEGORIES:Clases Avanzadas
ORGANIZER;CN="Vrindarani Devi Dasi":MAILTO:gopeswaravillage@gmail.com
END:VEVENT
END:VCALENDAR