BEGIN:VCALENDAR
VERSION:2.0
PRODID:-//Yoga Inbound Alliance - ECPv6.7.1//NONSGML v1.0//EN
CALSCALE:GREGORIAN
METHOD:PUBLISH
X-ORIGINAL-URL:https://yogainboundalliance.com/yi
X-WR-CALDESC:Eventos para Yoga Inbound Alliance
REFRESH-INTERVAL;VALUE=DURATION:PT1H
X-Robots-Tag:noindex
X-PUBLISHED-TTL:PT1H
BEGIN:VTIMEZONE
TZID:UTC
BEGIN:STANDARD
TZOFFSETFROM:+0000
TZOFFSETTO:+0000
TZNAME:UTC
DTSTART:20250101T000000
END:STANDARD
END:VTIMEZONE
BEGIN:VEVENT
DTSTART;TZID=UTC:20250115T080000
DTEND;TZID=UTC:20250425T170000
DTSTAMP:20260425T232253
CREATED:20240927T161650Z
LAST-MODIFIED:20241003T143726Z
UID:1026-1736928000-1745600400@yogainboundalliance.com
SUMMARY:Formación 1000 Horas
DESCRIPTION:Formación de Yoga de 1000 Horas: Un Viaje Profundo en el Mundo del Yoga\nUna formación de yoga de 1000 horas es un programa de estudio altamente especializado y exigente\, diseñado para aquellos que desean sumergirse completamente en el mundo del yoga y convertirse en maestros excepcionales. Este tipo de formación va más allá de lo que se ofrece en programas de 200 o 500 horas\, proporcionando un conocimiento enciclopédico de la filosofía\, práctica y enseñanza del yoga. \n¿Qué Incluye una Formación de 1000 Horas?\nUna formación de 1000 horas suele abarcar una amplia gama de temas\, incluyendo: \n\nFilosofía y Textos Sagrados: Un estudio exhaustivo de los textos fundamentales del yoga\, como los Yoga Sutras de Patanjali\, Bhagavad Gita\, Upanishads\, y otros textos védicos.\nAnatomía y Fisiología: Un análisis detallado de la anatomía y fisiología humana\, incluyendo biomecánica\, kinesiología y patologías comunes.\nPsicología del Yoga: Un estudio de la mente\, las emociones y cómo el yoga puede influir en ellas.\nPráctica de Asanas: Un entrenamiento intensivo en una variedad de estilos de yoga\, incluyendo alineación precisa\, ajustes y variaciones.\nPranayama: Técnicas de respiración avanzadas\, incluyendo pranayama dinámico y estático.\nMeditación: Prácticas de meditación profunda\, incluyendo técnicas de concentración\, visualización y mantra.\nYoga Nidra: Dominio de las técnicas de yoga nidra para inducir estados profundos de relajación y sanación.\nAyurveda: Un estudio completo de Ayurveda\, incluyendo diagnóstico\, nutrición\, hierbas y terapias ayurvédicas.\nTantra: Exploración de los principios tántricos y su aplicación en la práctica del yoga.\nPedagogía: Desarrollo de habilidades pedagógicas avanzadas para enseñar a estudiantes de todos los niveles.\nÉtica y Profesionalismo: Un enfoque en la ética profesional y la construcción de una carrera exitosa como maestro de yoga.\n\n¿Por Qué Hacer una Formación de 1000 Horas?\n\nMaestría en la Enseñanza: Desarrollar las habilidades necesarias para enseñar yoga a un nivel avanzado y especializarte en áreas específicas.\nInvestigación y Desarrollo: Contribuir al desarrollo del campo del yoga a través de la investigación y la creación de nuevas secuencias y métodos de enseñanza.\nTransformación Personal: Experimentar una profunda transformación personal a través de la práctica intensiva del yoga y la meditación.\nLiderazgo en la Comunidad Yogui: Convertirse en un líder y mentor en la comunidad yogui.\n\nVideo Preview \nSorry\, your browser doesn't support embedded videos. 10% Off
URL:https://yogainboundalliance.com/yi/event/formacion-1000-horas/
LOCATION:Academia Govinda´s Pereira\, Calle 16 # 6 - 58\, Pereira\, Risaralda\, Colombia
CATEGORIES:Formaciones,Formaciones 1000 horas
ORGANIZER;CN="Yoga Unbound Alliance":MAILTO:govindaspereira1@gmail.com
END:VEVENT
BEGIN:VEVENT
DTSTART;TZID=UTC:20250118T080000
DTEND;TZID=UTC:20250419T170000
DTSTAMP:20260425T232253
CREATED:20241003T172618Z
LAST-MODIFIED:20241007T141436Z
UID:1175-1737187200-1745082000@yogainboundalliance.com
SUMMARY:Formación 200 horas Fullness Camp
DESCRIPTION:Formación de Yoga de 200 Horas: Tu Primer Paso en el Mundo de la Enseñanza\nUna formación de yoga de 200 horas es el punto de partida ideal para aquellos que desean profundizar en su práctica personal y adquirir las herramientas necesarias para enseñar yoga a otros. Este programa intensivo te proporcionará una base sólida en los fundamentos del yoga\, tanto desde el punto de vista físico como filosófico. \n¿Qué Incluye una Formación de 200 Horas?\nUna formación típica de 200 horas abarca una variedad de temas\, incluyendo: \n\nAsanas (posturas): Aprenderás una amplia gama de posturas\, sus beneficios y cómo adaptarlas a diferentes niveles de práctica.\nAlineación: Entenderás los principios de alineación para asegurar una práctica segura y efectiva.\nPranayama (técnicas de respiración): Explorarás diferentes técnicas de respiración para calmar la mente y equilibrar el cuerpo.\nMeditación: Practicarás diversas técnicas de meditación para cultivar la atención plena y la conciencia.\nFilosofía del Yoga: Estudiarás los textos clásicos del yoga\, como los Yoga Sutras de Patanjali\, para comprender los fundamentos filosóficos de esta práctica.\nAnatomía: Adquirirás conocimientos básicos sobre la anatomía del cuerpo humano y cómo las posturas de yoga afectan a los músculos\, articulaciones y órganos.\nAyurveda: Introducirás los principios de Ayurveda\, la ciencia de la vida\, para comprender cómo equilibrar los doshas (constituciones) y promover la salud.\nMetodología de la Enseñanza: Aprenderás a planificar y enseñar clases de yoga\, adaptándolas a diferentes niveles y necesidades.\n\n¿Por Qué Hacer una Formación de 200 Horas?\n\nProfundizar en tu práctica personal: Adquirirás un conocimiento más profundo de los principios del yoga y podrás personalizar tu práctica.\nConvertirte en profesor de yoga: Obtener la certificación necesaria para enseñar yoga a otros y compartir tu pasión.\nDesarrollar una mayor conciencia corporal: Aprenderás a escuchar a tu cuerpo y a moverlo de manera segura y efectiva.\nReducir el estrés y mejorar tu bienestar: El yoga es una herramienta poderosa para la salud física y mental.\nConectar con una comunidad de yoguis: Conocer a personas con intereses similares y crear redes
URL:https://yogainboundalliance.com/yi/event/formacion-200-horas-fullness-camp/
LOCATION:Academia Fullness Camp sede Tabio\, Finca Tateguari\, Vereda Juaica Santuario\, Camellón Salsipuedes\, Tabio\, Cundinamarca\, Colombia
CATEGORIES:Formaciones 200 horas
ORGANIZER;CN="Lila Govardhan Devi Dasi":MAILTO:fullnesscamp.bogota@gmail.com
END:VEVENT
END:VCALENDAR